BEGIN:VCALENDAR
VERSION:2.0
PRODID:-//wp-events-plugin.com//6.5//EN
TZID:America/New_York
X-WR-TIMEZONE:America/New_York
BEGIN:VEVENT
UID:31-10585@philadelphia.swea.org
DTSTART;TZID=America/New_York:20260408T140000
DTEND;TZID=America/New_York:20260408T140000
DTSTAMP:20260402T193038Z
URL:https://philadelphia.swea.org/events/bokklubb-18/
SUMMARY:Bokklubb
DESCRIPTION:Vi träffas hemma hos Monica och diskuterar boken “Nattankare
 ” av Kristina Ohlsson och “Män och kvinnor” av Lena Andersson\n\nAn
 mälan via Evite
END:VEVENT
BEGIN:VTIMEZONE
TZID:America/New_York
X-LIC-LOCATION:America/New_York
BEGIN:DAYLIGHT
DTSTART:20260308T030000
TZOFFSETFROM:-0500
TZOFFSETTO:-0400
TZNAME:EDT
END:DAYLIGHT
END:VTIMEZONE
END:VCALENDAR