BEGIN:VCALENDAR
VERSION:2.0
PRODID:-//wp-events-plugin.com//6.5//EN
TZID:America/New_York
X-WR-TIMEZONE:America/New_York
BEGIN:VEVENT
UID:31-10590@philadelphia.swea.org
DTSTART;TZID=America/New_York:20260419T110000
DTEND;TZID=America/New_York:20260419T130000
DTSTAMP:20260402T193712Z
URL:https://philadelphia.swea.org/events/halsosam-brunch-med-amy/
SUMMARY:Hälsosam brunch med Amy
DESCRIPTION:Söndag 19 april kl 11.00 träffas vi hemma hos Monica för en 
 hälsosam brunch a la Amy.\nPris $20 /person\n\nAnmälan via Evite
END:VEVENT
BEGIN:VTIMEZONE
TZID:America/New_York
X-LIC-LOCATION:America/New_York
BEGIN:DAYLIGHT
DTSTART:20260308T030000
TZOFFSETFROM:-0500
TZOFFSETTO:-0400
TZNAME:EDT
END:DAYLIGHT
END:VTIMEZONE
END:VCALENDAR