BEGIN:VCALENDAR
VERSION:2.0
PRODID:-//wp-events-plugin.com//6.5//EN
TZID:America/New_York
X-WR-TIMEZONE:America/New_York
BEGIN:VEVENT
UID:31-10588@philadelphia.swea.org
DTSTART;TZID=America/New_York:20260415T170000
DTEND;TZID=America/New_York:20260415T183000
DTSTAMP:20260402T193420Z
URL:https://philadelphia.swea.org/events/happy-hour-6/
SUMMARY:Happy Hour
DESCRIPTION:Vår återkommande Happy Hour som är öppet för alla svenskta
 lande\, medlemmar eller ej.\n\nSamma plats och tid - Curtain Call på Spru
 ce/Broad (inne i the Kimmel Center)
END:VEVENT
BEGIN:VTIMEZONE
TZID:America/New_York
X-LIC-LOCATION:America/New_York
BEGIN:DAYLIGHT
DTSTART:20260308T030000
TZOFFSETFROM:-0500
TZOFFSETTO:-0400
TZNAME:EDT
END:DAYLIGHT
END:VTIMEZONE
END:VCALENDAR