BEGIN:VCALENDAR
VERSION:2.0
PRODID:-//wp-events-plugin.com//6.5//EN
TZID:America/New_York
X-WR-TIMEZONE:America/New_York
BEGIN:VEVENT
UID:31-10594@philadelphia.swea.org
DTSTART;TZID=America/New_York:20260426T110000
DTEND;TZID=America/New_York:20260426T140000
DTSTAMP:20260402T194317Z
URL:https://philadelphia.swea.org/events/kubbturnering/
SUMMARY:Kubbturnering
DESCRIPTION:Ta med familjen och kom och spela kubb i SWEA Philadelphia’s 
 första kubb turnering i Fort Washington State Park! Ta med er egen pickni
 ck och dryck. Vi bjuder på nybakat till dessert. Det finns\npicknick bord
  och toaletter. Lekplats finns i närheten. För de som vill vara med och 
 spela kostar\ndet $10 per person. Det kostar inget om man bara vill komma 
 och titta på\, men fint pris delas ut till det vinnande laget så missa i
 nte chansen att vara med och försöka att kamma hem segern.\n\nVi kommer 
 att delas upp i lag med 2-3 personer i varje lag. Vi hoppas vi ses!\n\nVä
 nligen anmäl er senast fredagen den 24:e april via Evite
END:VEVENT
BEGIN:VTIMEZONE
TZID:America/New_York
X-LIC-LOCATION:America/New_York
BEGIN:DAYLIGHT
DTSTART:20260308T030000
TZOFFSETFROM:-0500
TZOFFSETTO:-0400
TZNAME:EDT
END:DAYLIGHT
END:VTIMEZONE
END:VCALENDAR