BEGIN:VCALENDAR
VERSION:2.0
PRODID:-//wp-events-plugin.com//6.5//EN
TZID:America/New_York
X-WR-TIMEZONE:America/New_York
BEGIN:VEVENT
UID:31-10589@philadelphia.swea.org
DTSTART;TZID=America/New_York:20260416T183000
DTEND;TZID=America/New_York:20260416T203000
DTSTAMP:20260402T193553Z
URL:https://philadelphia.swea.org/events/lansseringsfest-for-swea-professi
 onal/
SUMMARY:Lansseringsfest för SWEA Professional
DESCRIPTION:Torsdag 16 april kl 18.30 SWEA Professional har funnits som en 
 intressegrupp inom SWEA i många år och nu drar vi äntligen igång en lo
 kal grupp här i Philadelphia\, kom på vår lanseringsfest – alla svens
 ktalande kvinnor är varmt välkomna!\n\nVi bjuder på:\nNätverkande\nPre
 sentation av 2026 års SWEA PHL\nProfessional-kommitté och plan för åre
 t\nBubbel och tilltugg\,\nPris $20 /person\n\nMer information kommer inom 
 kort
END:VEVENT
BEGIN:VTIMEZONE
TZID:America/New_York
X-LIC-LOCATION:America/New_York
BEGIN:DAYLIGHT
DTSTART:20260308T030000
TZOFFSETFROM:-0500
TZOFFSETTO:-0400
TZNAME:EDT
END:DAYLIGHT
END:VTIMEZONE
END:VCALENDAR