BEGIN:VCALENDAR
VERSION:2.0
PRODID:-//wp-events-plugin.com//6.5//EN
TZID:America/New_York
X-WR-TIMEZONE:America/New_York
BEGIN:VEVENT
UID:31-10584@philadelphia.swea.org
DTSTART;TZID=America/New_York:20260407T113000
DTEND;TZID=America/New_York:20260407T123000
DTSTAMP:20260402T192827Z
URL:https://philadelphia.swea.org/events/lunch-pa-ikea-4/
SUMMARY:Lunch på IKEA
DESCRIPTION:Vi träffas på IKEA Conshohocken för lunch.\n\nFest &amp\; Pr
 ogramgruppen träffas för planering av aktiviteter - Alla är välkomna a
 tt delta !
END:VEVENT
BEGIN:VTIMEZONE
TZID:America/New_York
X-LIC-LOCATION:America/New_York
BEGIN:DAYLIGHT
DTSTART:20260308T030000
TZOFFSETFROM:-0500
TZOFFSETTO:-0400
TZNAME:EDT
END:DAYLIGHT
END:VTIMEZONE
END:VCALENDAR