BEGIN:VCALENDAR
VERSION:2.0
PRODID:-//wp-events-plugin.com//6.5//EN
TZID:America/New_York
X-WR-TIMEZONE:America/New_York
BEGIN:VEVENT
UID:31-10586@philadelphia.swea.org
DTSTART;TZID=America/New_York:20260409T183000
DTEND;TZID=America/New_York:20260409T203000
DTSTAMP:20260402T193145Z
URL:https://philadelphia.swea.org/events/middagp-pa-stan/
SUMMARY:Middag på stan
DESCRIPTION:Denna gång på Wilder! Anmäl er via Evite
END:VEVENT
BEGIN:VTIMEZONE
TZID:America/New_York
X-LIC-LOCATION:America/New_York
BEGIN:DAYLIGHT
DTSTART:20260308T030000
TZOFFSETFROM:-0500
TZOFFSETTO:-0400
TZNAME:EDT
END:DAYLIGHT
END:VTIMEZONE
END:VCALENDAR