BEGIN:VCALENDAR
VERSION:2.0
PRODID:-//wp-events-plugin.com//6.5//EN
TZID:America/New_York
X-WR-TIMEZONE:America/New_York
BEGIN:VEVENT
UID:31-9260@philadelphia.swea.org
DTSTART;TZID=America/New_York:20250902T113000
DTEND;TZID=America/New_York:20250902T123000
DTSTAMP:20251007T003125Z
URL:https://philadelphia.swea.org/events/planeringsmote-pa-ikea/
SUMMARY:Planeringsmöte på Ikea
DESCRIPTION:Den 2a September träffas vi på Ikea Conschohocken för lunch 
 och planeringsmöte. Alla Sweor är välkomna.\n\nInbjudan via Evite
ATTACH;FMTTYPE=image/jpeg:https://philadelphia.swea.org/wp-content/uploads
 /sites/31/2015/03/IKEA-e1425332140952.jpg
END:VEVENT
BEGIN:VTIMEZONE
TZID:America/New_York
X-LIC-LOCATION:America/New_York
BEGIN:DAYLIGHT
DTSTART:20250309T030000
TZOFFSETFROM:-0500
TZOFFSETTO:-0400
TZNAME:EDT
END:DAYLIGHT
END:VTIMEZONE
END:VCALENDAR