BEGIN:VCALENDAR
VERSION:2.0
PRODID:-//wp-events-plugin.com//6.5//EN
TZID:America/New_York
X-WR-TIMEZONE:America/New_York
BEGIN:VEVENT
UID:31-10596@philadelphia.swea.org
DTSTART;TZID=America/New_York:20260503T134500
DTEND;TZID=America/New_York:20260503T134500
DTSTAMP:20260402T194716Z
URL:https://philadelphia.swea.org/events/utflykt-och-provning-pa-vingard/
SUMMARY:Utflykt och provning på vingård
DESCRIPTION:Rött\, vitt eller sött?\n\nTa en tur till Harvest Ridge Winer
 y i Marydel\, Delaware och prova på vad som smakar dig\nbäst. Vi erbjude
 r en privat provning av 6-7 olika viner och en “tour” av produktions-b
 yggnaden\noch vinodlingen för $25/person. Vingården har en food truck f
 ör när man blir hungrig\, eller ni är välkomna att ta med er eget till
 tugg.\n\nAlla sweor är bjudna med plus en\, inget krav på att man måste
  prata svenska. Vi träffas på vingården kl 13.45 den 3:e maj\, vi åter
 kommer kring samåkning. Betalningen kan göras på plats.\n\nAnmälan via
  Evite
END:VEVENT
BEGIN:VTIMEZONE
TZID:America/New_York
X-LIC-LOCATION:America/New_York
BEGIN:DAYLIGHT
DTSTART:20260308T030000
TZOFFSETFROM:-0500
TZOFFSETTO:-0400
TZNAME:EDT
END:DAYLIGHT
END:VTIMEZONE
END:VCALENDAR