BEGIN:VCALENDAR
VERSION:2.0
PRODID:-//wp-events-plugin.com//6.5//EN
TZID:America/New_York
X-WR-TIMEZONE:America/New_York
BEGIN:VEVENT
UID:31-10593@philadelphia.swea.org
DTSTART;TZID=America/New_York:20260424T100000
DTEND;TZID=America/New_York:20260424T120000
DTSTAMP:20260402T194126Z
URL:https://philadelphia.swea.org/events/utflykt-till-bok-building/
SUMMARY:Utflykt till BOK building
DESCRIPTION:BOK building är en gammal fackskola som har omvandlats till et
 t kreativt\ncentrum. Vi träffas 10:45 för en guidad (kostnadsfri) visnin
 g av byggnaden och äter lunch efteråt på Miles Table som ligger i byggn
 aden. Därefter finns det möjlighet att botanisera i byggnadens affärer\
 , och missa inte bageriet Machine Shop Philly\,
END:VEVENT
BEGIN:VTIMEZONE
TZID:America/New_York
X-LIC-LOCATION:America/New_York
BEGIN:DAYLIGHT
DTSTART:20260308T030000
TZOFFSETFROM:-0500
TZOFFSETTO:-0400
TZNAME:EDT
END:DAYLIGHT
END:VTIMEZONE
END:VCALENDAR