BEGIN:VCALENDAR
VERSION:2.0
PRODID:-//wp-events-plugin.com//6.5//EN
TZID:America/New_York
X-WR-TIMEZONE:America/New_York
BEGIN:VEVENT
UID:31-10595@philadelphia.swea.org
DTSTART;TZID=America/New_York:20260429T103000
DTEND;TZID=America/New_York:20260429T103000
DTSTAMP:20260402T194514Z
URL:https://philadelphia.swea.org/events/utflykt-till-hinduiska-templet-oc
 h-tulpanfarm/
SUMMARY:Utflykt till Hinduiska Templet och tulpanfarm
DESCRIPTION:Onsdag 29 april kl 10.30\, träffas vi Hinduiska Templet BAPS S
 hri Swaminarayan Mandir i NJ\, det näst\nstörsta hinduiska templet utanf
 ör Indien.\n\nDe har guidade turer varje timme\, så vi tar 11-turen\, be
 höver ej bokas\, fri entre. Beroende på vad som passar bäst\, kan vi ta
  lunchen vid templet eller vid tulpanfarmen där de har food trucks.\n\nVi
  åker från templet till Holland Ridge farm\, det tar cirka 20 minuter. D
 är träffas vi kl 14. Alla bokar sin egen biljett till den tiden.\n\nAnm
 älan via Evite
END:VEVENT
BEGIN:VTIMEZONE
TZID:America/New_York
X-LIC-LOCATION:America/New_York
BEGIN:DAYLIGHT
DTSTART:20260308T030000
TZOFFSETFROM:-0500
TZOFFSETTO:-0400
TZNAME:EDT
END:DAYLIGHT
END:VTIMEZONE
END:VCALENDAR