BEGIN:VCALENDAR
VERSION:2.0
PRODID:-//wp-events-plugin.com//6.5//EN
TZID:America/New_York
X-WR-TIMEZONE:America/New_York
BEGIN:VEVENT
UID:31-10598@philadelphia.swea.org
DTSTART;TZID=America/New_York:20260415T000000
DTEND;TZID=America/New_York:20260415T000000
DTSTAMP:20260402T194854Z
URL:https://philadelphia.swea.org/events/varlunch-pa-white-dog-cafe-i-wayn
 e/
SUMMARY:Vårlunch på White Dog Cafe i Wayne
DESCRIPTION:Mer information kommer. Anmälan via Evite
END:VEVENT
BEGIN:VTIMEZONE
TZID:America/New_York
X-LIC-LOCATION:America/New_York
BEGIN:DAYLIGHT
DTSTART:20260308T030000
TZOFFSETFROM:-0500
TZOFFSETTO:-0400
TZNAME:EDT
END:DAYLIGHT
END:VTIMEZONE
END:VCALENDAR